BEGIN:VCALENDAR
VERSION:2.0
PRODID:icalendar-ruby
CALSCALE:GREGORIAN
X-WR-TIMEZONE:Europe/Helsinki
BEGIN:VTIMEZONE
TZID:Europe/Helsinki
BEGIN:DAYLIGHT
DTSTART:20260329T040000
TZOFFSETFROM:+0200
TZOFFSETTO:+0300
RRULE:FREQ=YEARLY;BYDAY=-1SU;BYMONTH=3
TZNAME:EEST
END:DAYLIGHT
BEGIN:STANDARD
DTSTART:20261025T030000
TZOFFSETFROM:+0300
TZOFFSETTO:+0200
RRULE:FREQ=YEARLY;BYDAY=-1SU;BYMONTH=10
TZNAME:EET
END:STANDARD
END:VTIMEZONE
BEGIN:VEVENT
DTSTAMP:20260421T144748
UID:oulunuinti.myclub.fi-10634411
DTSTART;TZID=Europe/Helsinki:20260608T171500
DTEND;TZID=Europe/Helsinki:20260612T180000
DESCRIPTION:Kesäalkeiskurssi 8 (5–8 v) \n8.–12.6. klo 17.15–18.00\, 
 Raatin uimahallin lasten allas\nKesäuimakoulussa harjoitellaan uinnin alk
 eita ja vesitaitoja turvallisesti ohjatuissa pienryhmissä. Harjoittelu ta
 pahtuu leikinomaisesti ja kannustavassa ilmapiirissä lapsen taitotaso huo
 mioiden.\nUimakoulussa harjoitellaan muun muassa:  vesirohkeutta ja vedess
 ä liikkumista  kellumista ja liukumista  sukeltamista  alkeisuinnin perus
 teita  \nKurssi sopii aloittelijoille sekä uimataitoa harjoitteleville la
 psille. Aiempaa uimakoulutaustaa ei tarvita.  Kurssin tiedot   Kesto: 5 pe
 räkkäistä arkipäivää  Aika: sama kellonaika joka päivä  Paikka: Ra
 atin uimahalli  Hinta: 80 €    Hyvä tietää   Vanhemmat eivät ole muk
 ana vedessä uimakoulun aikana  Opetus tapahtuu pienryhmissä  Ryhmä muod
 ostetaan ilmoittautumisjärjestyksessä    Varusteet   uimapuku  uimalasit
  (suositellaan)  pyyhe ja peseytymisvälineet   \n\nPeruutukset tehdään 
 sähköpostilla uimakoulut@oulunuinti.fi osoitteeseen\, peruutuksia ei vas
 taanoteta suullisesti /puhelimitse.\nPeruutusehdot:\nKurssimaksu: Viimeist
 ään 24.05.2026 tehdyissä peruutuksissa palautamme kurssimaksun vähenne
 ttynä 30\,00 € toimistomaksulla. 25.05.2026 tai sen jälkeen tehdyissä
  keskeytyksissä palautus vain lääkärintodistuksella.\nHuomioitavaa: Se
 uralla on tarvittaessa oikeus muuttaa ryhmän aikaa\, paikkaa ja sisältö
 ä ennen kurssin alkamista. Seuralla on oikeus perua ryhmä\, mikäli ilmo
 ittautuneita ei ole 8. Mikäli harjoitukset joudutaan perumaan kolmannesta
  osapuolesta johtuvasta syystä seuralla ei ole korvausvelvoitetta.\n\nhtt
 ps://oulunuinti.myclub.fi/flow/events/10634411
LOCATION:Raatin Uimahalli \, Raatintie 2\, 90100 Oulu\, Suomi
SEQUENCE:0
SUMMARY:Kesäalkeiskurssi 8: Ilmoittautuminen ryhmään: Kesäalkeiskurssi 
 8 (7.6.-12.6. klo 17:15-18:00)
URL;VALUE=URI:https://oulunuinti.myclub.fi/flow/events/10634411
END:VEVENT
END:VCALENDAR
