BEGIN:VCALENDAR
VERSION:2.0
PRODID:icalendar-ruby
CALSCALE:GREGORIAN
X-WR-TIMEZONE:Europe/Helsinki
BEGIN:VTIMEZONE
TZID:Europe/Helsinki
BEGIN:DAYLIGHT
DTSTART:20260329T040000
TZOFFSETFROM:+0200
TZOFFSETTO:+0300
RRULE:FREQ=YEARLY;BYDAY=-1SU;BYMONTH=3
TZNAME:EEST
END:DAYLIGHT
BEGIN:STANDARD
DTSTART:20261025T030000
TZOFFSETFROM:+0300
TZOFFSETTO:+0200
RRULE:FREQ=YEARLY;BYDAY=-1SU;BYMONTH=10
TZNAME:EET
END:STANDARD
END:VTIMEZONE
BEGIN:VEVENT
DTSTAMP:20260421T150122
UID:oulunuinti.myclub.fi-10634357
DTSTART;TZID=Europe/Helsinki:20260608T163000
DTEND;TZID=Europe/Helsinki:20260612T171500
DESCRIPTION:Kesäalkeiskurssi 7 (3–5 v) \n8.–12.6. klo 16.30-17.15\, Ra
 atin uimahallin lasten allas\nKesäuimakoulussa harjoitellaan uinnin alkei
 ta ja vesitaitoja turvallisesti ohjatuissa pienryhmissä. Harjoittelu tapa
 htuu leikinomaisesti ja kannustavassa ilmapiirissä lapsen taitotaso huomi
 oiden.\nUimakoulussa harjoitellaan muun muassa:  vesirohkeutta ja vedessä
  liikkumista  kellumista ja liukumista  sukeltamista  alkeisuinnin peruste
 ita  \nKurssi on suunnattu pienille lapsille\, jotka totuttelevat veteen j
 a harjoittelevat vesitaitojen alkeita.  Kurssin tiedot   Kesto: 5 peräkk
 äistä arkipäivää  Aika: sama kellonaika joka päivä  Paikka: Raatin 
 uimahalli  Hinta: 80 €    Hyvä tietää   Vanhemmat eivät ole mukana v
 edessä uimakoulun aikana  Opetus tapahtuu pienryhmissä  Ryhmä muodostet
 aan ilmoittautumisjärjestyksessä    Varusteet   uimapuku  uimalasit (suo
 sitellaan)  pyyhe ja peseytymisvälineet   \n\nPeruutukset tehdään sähk
 öpostilla uimakoulut@oulunuinti.fi osoitteeseen\, peruutuksia ei vastaano
 teta suullisesti /puhelimitse.\nPeruutusehdot:\nKurssimaksu: Viimeistään
  24.05.2026 tehdyissä peruutuksissa palautamme kurssimaksun vähennettyn
 ä 30\,00 € toimistomaksulla. 25.05.2026 tai sen jälkeen tehdyissä kes
 keytyksissä palautus vain lääkärintodistuksella.\nHuomioitavaa: Seural
 la on tarvittaessa oikeus muuttaa ryhmän aikaa\, paikkaa ja sisältöä e
 nnen kurssin alkamista. Seuralla on oikeus perua ryhmä\, mikäli ilmoitta
 utuneita ei ole 6. Mikäli harjoitukset joudutaan perumaan kolmannesta osa
 puolesta johtuvasta syystä seuralla ei ole korvausvelvoitetta.\n\nhttps:/
 /oulunuinti.myclub.fi/flow/events/10634357
LOCATION:Raatin Uimahalli \, Raatintie 2\, 90100 Oulu\, Suomi
SEQUENCE:0
SUMMARY:Kesäalkeiskurssi 7: Ilmoittautuminen ryhmään: Kesäalkeiskurssi 
 7 (8.6.-12.6. klo 16:30-17:15)
URL;VALUE=URI:https://oulunuinti.myclub.fi/flow/events/10634357
END:VEVENT
END:VCALENDAR
