BEGIN:VCALENDAR
VERSION:2.0
PRODID:icalendar-ruby
CALSCALE:GREGORIAN
X-WR-TIMEZONE:Europe/Helsinki
BEGIN:VTIMEZONE
TZID:Europe/Helsinki
BEGIN:DAYLIGHT
DTSTART:20260329T040000
TZOFFSETFROM:+0200
TZOFFSETTO:+0300
RRULE:FREQ=YEARLY;BYDAY=-1SU;BYMONTH=3
TZNAME:EEST
END:DAYLIGHT
BEGIN:STANDARD
DTSTART:20261025T030000
TZOFFSETFROM:+0300
TZOFFSETTO:+0200
RRULE:FREQ=YEARLY;BYDAY=-1SU;BYMONTH=10
TZNAME:EET
END:STANDARD
END:VTIMEZONE
BEGIN:VEVENT
DTSTAMP:20260421T144747
UID:oulunuinti.myclub.fi-10634293
DTSTART;TZID=Europe/Helsinki:20260601T180000
DTEND;TZID=Europe/Helsinki:20260605T184500
DESCRIPTION:Kesäalkeiskurssi 6 (5–8 v) \n1.–5.6. klo 18:00-18:45 Linna
 nmaan uimahallin opetusallas\nKesäuimakoulussa harjoitellaan uinnin alkei
 ta ja vesitaitoja turvallisesti ohjatuissa pienryhmissä. Harjoittelu tapa
 htuu leikinomaisesti ja kannustavassa ilmapiirissä lapsen taitotaso huomi
 oiden.\nUimakoulussa harjoitellaan muun muassa:  vesirohkeutta ja vedessä
  liikkumista  kellumista ja liukumista  sukeltamista  alkeisuinnin peruste
 ita  \nKurssi sopii aloittelijoille sekä uimataitoa harjoitteleville laps
 ille. Aiempaa uimakoulutaustaa ei tarvita.  Kurssin tiedot   Kesto: 5 per
 äkkäistä arkipäivää  Aika: sama kellonaika joka päivä  Paikka: Lin
 nanmaan uimahalli  Hinta: 80 €    Hyvä tietää   Vanhemmat eivät ole 
 mukana vedessä uimakoulun aikana  Opetus tapahtuu pienryhmissä  Ryhmä m
 uodostetaan ilmoittautumisjärjestyksessä    Varusteet   uimapuku  uimala
 sit (suositellaan)  pyyhe ja peseytymisvälineet   \n\nPeruutukset tehdä
 än sähköpostilla uimakoulut@oulunuinti.fi osoitteeseen\, peruutuksia ei
  vastaanoteta suullisesti /puhelimitse.\nPeruutusehdot:\nKurssimaksu: Viim
 eistään 24.05.2026 tehdyissä peruutuksissa palautamme kurssimaksun väh
 ennettynä 30\,00 € toimistomaksulla. 25.05.2026 tai sen jälkeen tehdyi
 ssä keskeytyksissä palautus vain lääkärintodistuksella.\nHuomioitavaa
 : Seuralla on tarvittaessa oikeus muuttaa ryhmän aikaa\, paikkaa ja sisä
 ltöä ennen kurssin alkamista. Seuralla on oikeus perua ryhmä\, mikäli 
 ilmoittautuneita ei ole 8. Mikäli harjoitukset joudutaan perumaan kolmann
 esta osapuolesta johtuvasta syystä seuralla ei ole korvausvelvoitetta.\n\
 nhttps://oulunuinti.myclub.fi/flow/events/10634293
LOCATION:Linnanmaan Uimahalli\, Virkakatu 1\, 90570 Oulu
SEQUENCE:0
SUMMARY:Kesäalkeiskurssi 6: Ilmoittautuminen ryhmään: Kesäalkeiskurssi 
 6 (1.6.-5.6. klo 18:00-18:45)
URL;VALUE=URI:https://oulunuinti.myclub.fi/flow/events/10634293
END:VEVENT
END:VCALENDAR
