BEGIN:VCALENDAR
VERSION:2.0
PRODID:icalendar-ruby
CALSCALE:GREGORIAN
X-WR-TIMEZONE:Europe/Helsinki
BEGIN:VTIMEZONE
TZID:Europe/Helsinki
BEGIN:DAYLIGHT
DTSTART:20260329T040000
TZOFFSETFROM:+0200
TZOFFSETTO:+0300
RRULE:FREQ=YEARLY;BYDAY=-1SU;BYMONTH=3
TZNAME:EEST
END:DAYLIGHT
BEGIN:STANDARD
DTSTART:20261025T030000
TZOFFSETFROM:+0300
TZOFFSETTO:+0200
RRULE:FREQ=YEARLY;BYDAY=-1SU;BYMONTH=10
TZNAME:EET
END:STANDARD
END:VTIMEZONE
BEGIN:VEVENT
DTSTAMP:20260421T150107
UID:oulunuinti.myclub.fi-10634133
DTSTART;TZID=Europe/Helsinki:20260601T180000
DTEND;TZID=Europe/Helsinki:20260605T184500
DESCRIPTION:Kesäalkeiskurssi 3 (5–8 v) \n1.–5.6. klo 18:00-18:45 Raati
 n uimahallin lasten allas\nKesäuimakoulussa harjoitellaan uinnin alkeita 
 ja vesitaitoja turvallisesti ohjatuissa pienryhmissä. Harjoittelu tapahtu
 u leikinomaisesti ja kannustavassa ilmapiirissä lapsen taitotaso huomioid
 en.\nUimakoulussa harjoitellaan muun muassa:  vesirohkeutta ja vedessä li
 ikkumista  kellumista ja liukumista  sukeltamista  alkeisuinnin perusteita
   \nKurssi sopii aloittelijoille sekä uimataitoa harjoitteleville lapsill
 e. Aiempaa uimakoulutaustaa ei tarvita.  Kurssin tiedot   Kesto: 5 peräkk
 äistä arkipäivää  Aika: sama kellonaika joka päivä  Paikka: Raatin 
 uimahalli  Hinta: 80 €    Hyvä tietää   Vanhemmat eivät ole mukana v
 edessä uimakoulun aikana  Opetus tapahtuu pienryhmissä  Ryhmä muodostet
 aan ilmoittautumisjärjestyksessä    Varusteet   uimapuku  uimalasit (suo
 sitellaan)  pyyhe ja peseytymisvälineet   \n\nPeruutukset tehdään sähk
 öpostilla uimakoulut@oulunuinti.fi osoitteeseen\, peruutuksia ei vastaano
 teta suullisesti /puhelimitse.\nPeruutusehdot:\nKurssimaksu: Viimeistään
  24.05.2026 tehdyissä peruutuksissa palautamme kurssimaksun vähennettyn
 ä 30\,00 € toimistomaksulla. 25.05.2026 tai sen jälkeen tehdyissä kes
 keytyksissä palautus vain lääkärintodistuksella.\nHuomioitavaa: Seural
 la on tarvittaessa oikeus muuttaa ryhmän aikaa\, paikkaa ja sisältöä e
 nnen kurssin alkamista. Seuralla on oikeus perua ryhmä\, mikäli ilmoitta
 utuneita ei ole 8. Mikäli harjoitukset joudutaan perumaan kolmannesta osa
 puolesta johtuvasta syystä seuralla ei ole korvausvelvoitetta.\n\nhttps:/
 /oulunuinti.myclub.fi/flow/events/10634133
LOCATION:Raatin Uimahalli \, Raatintie 2\, 90100 Oulu\, Suomi
SEQUENCE:0
SUMMARY:Kesäalkeiskurssi 3: Ilmoittautuminen ryhmään: Kesäalkeiskurssi 
 3 (1.6.-5.6. klo 18:00-18:45)
URL;VALUE=URI:https://oulunuinti.myclub.fi/flow/events/10634133
END:VEVENT
END:VCALENDAR
