BEGIN:VCALENDAR
VERSION:2.0
PRODID:icalendar-ruby
CALSCALE:GREGORIAN
X-WR-TIMEZONE:Europe/Helsinki
BEGIN:VTIMEZONE
TZID:Europe/Helsinki
BEGIN:DAYLIGHT
DTSTART:20260329T040000
TZOFFSETFROM:+0200
TZOFFSETTO:+0300
RRULE:FREQ=YEARLY;BYDAY=-1SU;BYMONTH=3
TZNAME:EEST
END:DAYLIGHT
BEGIN:STANDARD
DTSTART:20261025T030000
TZOFFSETFROM:+0300
TZOFFSETTO:+0200
RRULE:FREQ=YEARLY;BYDAY=-1SU;BYMONTH=10
TZNAME:EET
END:STANDARD
END:VTIMEZONE
BEGIN:VEVENT
DTSTAMP:20260421T144851
UID:oulunuinti.myclub.fi-10627390
DTSTART;TZID=Europe/Helsinki:20260601T163000
DTEND;TZID=Europe/Helsinki:20260605T171500
DESCRIPTION:Kesäalkeiskurssi 1 (3–5 v) \n1.–5.6. klo 16.30-17.15\, Raa
 tin uimahallin lasten allas\nKesäuimakoulussa harjoitellaan uinnin alkeit
 a ja vesitaitoja turvallisesti ohjatuissa pienryhmissä. Harjoittelu tapah
 tuu leikinomaisesti ja kannustavassa ilmapiirissä lapsen taitotaso huomio
 iden.\nUimakoulussa harjoitellaan muun muassa:  vesirohkeutta ja vedessä 
 liikkumista  kellumista ja liukumista  sukeltamista  alkeisuinnin perustei
 ta  \nKurssi on suunnattu pienille lapsille\, jotka totuttelevat veteen ja
  harjoittelevat vesitaitojen alkeita.  Kurssin tiedot   Kesto: 5 peräkkä
 istä arkipäivää  Aika: sama kellonaika joka päivä  Paikka: Raatin ui
 mahalli  Hinta: 80 €    Hyvä tietää   Vanhemmat eivät ole mukana ved
 essä uimakoulun aikana  Opetus tapahtuu pienryhmissä  Ryhmä muodostetaa
 n ilmoittautumisjärjestyksessä    Varusteet   uimapuku  uimalasit (suosi
 tellaan)  pyyhe ja peseytymisvälineet   \n\nPeruutukset tehdään sähkö
 postilla uimakoulut@oulunuinti.fi osoitteeseen\, peruutuksia ei vastaanote
 ta suullisesti /puhelimitse.\nPeruutusehdot:\nKurssimaksu: Viimeistään 2
 4.05.2026 tehdyissä peruutuksissa palautamme kurssimaksun vähennettynä 
 30\,00 € toimistomaksulla. 25.05.2026 tai sen jälkeen tehdyissä keskey
 tyksissä palautus vain lääkärintodistuksella.\nHuomioitavaa: Seuralla 
 on tarvittaessa oikeus muuttaa ryhmän aikaa\, paikkaa ja sisältöä enne
 n kurssin alkamista. Seuralla on oikeus perua ryhmä\, mikäli ilmoittautu
 neita ei ole 6. Mikäli harjoitukset joudutaan perumaan kolmannesta osapuo
 lesta johtuvasta syystä seuralla ei ole korvausvelvoitetta.\n\nhttps://ou
 lunuinti.myclub.fi/flow/events/10627390
LOCATION:Raatin Uimahalli \, Raatintie 2\, 90100 Oulu\, Suomi
SEQUENCE:0
SUMMARY:Kesäalkeiskurssi 1: Ilmoittautuminen ryhmään: Kesäalkeiskurssi 
 1 (1.6.-5.6. klo 16:30-17:15)
URL;VALUE=URI:https://oulunuinti.myclub.fi/flow/events/10627390
END:VEVENT
END:VCALENDAR
