BEGIN:VCALENDAR
VERSION:2.0
PRODID:icalendar-ruby
CALSCALE:GREGORIAN
X-WR-TIMEZONE:Europe/Helsinki
BEGIN:VTIMEZONE
TZID:Europe/Helsinki
BEGIN:DAYLIGHT
DTSTART:20260329T040000
TZOFFSETFROM:+0200
TZOFFSETTO:+0300
RRULE:FREQ=YEARLY;BYDAY=-1SU;BYMONTH=3
TZNAME:EEST
END:DAYLIGHT
BEGIN:STANDARD
DTSTART:20261025T030000
TZOFFSETFROM:+0300
TZOFFSETTO:+0200
RRULE:FREQ=YEARLY;BYDAY=-1SU;BYMONTH=10
TZNAME:EET
END:STANDARD
END:VTIMEZONE
BEGIN:VEVENT
DTSTAMP:20260421T200604
UID:oulunuinti.myclub.fi-10326133
DTSTART;TZID=Europe/Helsinki:20260829T180000
DTEND;TZID=Europe/Helsinki:20260830T000000
DESCRIPTION:Oulun Uinti 120 vuotta – juhlaillallinen \n\n\nOulun Uinti t
 äyttää 120 vuotta\, ja juhlimme merkkivuotta yhteisellä juhlaillallise
 lla Hotelli Lasaretin Aurora-salissa. Ilta kokoaa yhteen seuran eri sukupo
 lvet nauttimaan hyvästä ruoasta ja juomasta\, jakamaan muistoja sekä vi
 ettämään aikaa yhdessä juhlan merkeissä.\nIllan aikana kuullaan puhee
 nvuoroja\, jaetaan huomionosoituksia ja muistellaan seuran historiaa – s
 amalla katse on vahvasti tässä hetkessä ja edessä olevassa. Ohjelmaan 
 sisältyy myös viihteellisiä esiintymisiä\, jotka rytmittävät iltaa j
 a tuovat siihen sopivaa vaihtelua.  Aika ja paikka \nLauantai 29.8. klo 18
 .00 alkaen Hotelli Lasaretin Aurora-sali Kasarmintie 13\, 90130 Oulu  Ohje
 lma ja tarjoilu   Kolmen ruokalajin juhlaillallinen  Alkumalja  Viinikaado
 t ruokailun yhteydessä (3 kaatoa)  Puheenvuoroja ja huomionosoituksia  Vi
 ihteellisiä esiintymisiä  Vapaata seurustelua    Ikäraja \nK18  Pukukoo
 di \nTumma puku  Liput \nEarly Bird -hinnat voimassa 15.5. asti:  Jäsenet
 : 48 €  Opiskelijat: 38 €  \n16.5. alkan lippujen hinnat ovat:  Jäsen
 et: 53 €  Opiskelijat: 43 €  \nPaikkoja tapahtumaan on tarjolla rajoit
 etusti.  Ilmoittautuminen \nIlmoittautuminen ja maksaminen tapahtuvat myCl
 ubin kautta. Ilmoittautuminen on sitova.  Lisätiedot \n Sami Juopperi\nOu
 lun Uinti\, toiminnanjohtaja\n  Mobile +358407035998\n  email: sami.juoppe
 ri@oulunuinti.fi\n \n\nhttps://oulunuinti.myclub.fi/flow/events/10326133
LOCATION:Hotelli Lasaretti\, Kasarmintie 13b\, 90130 Oulu
SEQUENCE:0
SUMMARY:Oulun Uinti 1906 ry: Oulun Uinnin 120v juhlatapahtuma
URL;VALUE=URI:https://oulunuinti.myclub.fi/flow/events/10326133
END:VEVENT
END:VCALENDAR
